BEGIN:VCALENDAR
VERSION:2.0
PRODID:-//ExpressionEngine Easy iCalendar plugin//NONSGML v2.0.1//EN
X-WR-TIMEZONE:America/New_York
X-WR-CALNAME:Upcoming Auctions
BEGIN:VEVENT
UID:113926
DTSTAMP:20240109T000000
DTSTART:20240109T000000
DTEND:20240123T200000
SUMMARY:Coins and Currency
LOCATION:1210 Cold Springs Rd\, P/U: 1/24 *8-10a & 3-6p\, Stuarts Draft
 \, VA 24477\, US
DESCRIPTION:Coins and currency for sale to the highest bidder! Morgan Si
 lver Dollars\, Peace Dollars\, Mercury Dimes\, Wheat Pennies an
 d much more!
URL:https://www.enlistedauctions.com/auctions/detail/bw113926
SEQUENCE:1
END:VEVENT
END:VCALENDAR