BEGIN:VCALENDAR
VERSION:2.0
PRODID:-//ExpressionEngine Easy iCalendar plugin//NONSGML v2.0.1//EN
X-WR-TIMEZONE:America/New_York
X-WR-CALNAME:Upcoming Auctions
BEGIN:VEVENT
UID:107653
DTSTAMP:20230911T000000
DTSTART:20230911T000000
DTEND:20230926T200000
SUMMARY:Cold Springs Gallery #2038
LOCATION:1210 Cold Springs Rd\, P/U: 9/27 *8-10a & 3-6p\, Stuarts Draft
 \, VA 24477\, US
DESCRIPTION:Woodworking Tools\, Saws\, Cabinets\, Furniture\, Household Item
 s\, Collectibles and more for sale to the highest bidder!
URL:https://www.enlistedauctions.com/auctions/detail/bw107653
SEQUENCE:1
END:VEVENT
END:VCALENDAR